BEGIN:VCALENDAR
VERSION:2.0
PRODID:-//pretix//pretix.eu//
BEGIN:VTIMEZONE
TZID:Europe/Berlin
BEGIN:STANDARD
DTSTART:20001029T040000
RRULE:FREQ=YEARLY;BYDAY=-1SU;BYMONTH=10
TZNAME:CET
TZOFFSETFROM:+0200
TZOFFSETTO:+0100
END:STANDARD
BEGIN:DAYLIGHT
DTSTART:20000326T030000
RRULE:FREQ=YEARLY;BYDAY=-1SU;BYMONTH=3
TZNAME:CEST
TZOFFSETFROM:+0100
TZOFFSETTO:+0200
END:DAYLIGHT
END:VTIMEZONE
BEGIN:VEVENT
UID:pretix-wghsl-samuel-koch-0@wghsl.nowticket.de
DTSTART;TZID=Europe/Berlin:20260320T190000
DTEND;TZID=Europe/Berlin:20260320T200000
DESCRIPTION:Tickets: https://wghsl.nowticket.de/samuel-koch/\nEinlass: 20.0
 3.2026 18:15\nVeranstalter: Stadt Waghäusel
DTSTAMP:20260419T123150Z
LOCATION:Rheintalhalle Waghäusel\, Rheinstr. 26\, 68753 Waghäusel
SUMMARY:Samuel Koch & Friends
END:VEVENT
END:VCALENDAR
